BEGIN:VCALENDAR
VERSION:2.0
PRODID:-//artifica.one//Montliard//FR
CALSCALE:GREGORIAN
METHOD:PUBLISH
BEGIN:VEVENT
SUMMARY:Diner-étape en rando-pédestre
UID:3573
SEQUENCE:0
STATUS:CONFIRMED
TRANSP:TRANSPARENT
DTSTART:20260420T060000Z
DTEND:20260420T180000Z
DTSTAMP:20260413T094140Z
CATEGORIES:Sorties / Manifestations
LOCATION:Comité des fêtes de Montliard
 1 Route de Bellegarde
 45340 MONTLIARD France
GEO:48.019028;2.397837
DESCRIPTION:
URL:https://www.montliard.fr/agenda/diner-etape-en-rando-pedestre-3573
END:VEVENT
END:VCALENDAR
